BEGIN:VCALENDAR
VERSION:2.0
PRODID:-//SightCare - ECPv6.15.20//NONSGML v1.0//EN
CALSCALE:GREGORIAN
METHOD:PUBLISH
X-ORIGINAL-URL:https://www.sightcare.co.uk
X-WR-CALDESC:Events for SightCare
REFRESH-INTERVAL;VALUE=DURATION:PT1H
X-Robots-Tag:noindex
X-PUBLISHED-TTL:PT1H
BEGIN:VTIMEZONE
TZID:Europe/London
BEGIN:DAYLIGHT
TZOFFSETFROM:+0000
TZOFFSETTO:+0100
TZNAME:BST
DTSTART:20250330T010000
END:DAYLIGHT
BEGIN:STANDARD
TZOFFSETFROM:+0100
TZOFFSETTO:+0000
TZNAME:GMT
DTSTART:20251026T010000
END:STANDARD
BEGIN:DAYLIGHT
TZOFFSETFROM:+0000
TZOFFSETTO:+0100
TZNAME:BST
DTSTART:20260329T010000
END:DAYLIGHT
BEGIN:STANDARD
TZOFFSETFROM:+0100
TZOFFSETTO:+0000
TZNAME:GMT
DTSTART:20261025T010000
END:STANDARD
BEGIN:DAYLIGHT
TZOFFSETFROM:+0000
TZOFFSETTO:+0100
TZNAME:BST
DTSTART:20270328T010000
END:DAYLIGHT
BEGIN:STANDARD
TZOFFSETFROM:+0100
TZOFFSETTO:+0000
TZNAME:GMT
DTSTART:20271031T010000
END:STANDARD
END:VTIMEZONE
BEGIN:VEVENT
DTSTART;VALUE=DATE:20260426
DTEND;VALUE=DATE:20260428
DTSTAMP:20260420T120540
CREATED:20250722T092503Z
LAST-MODIFIED:20260109T105502Z
UID:4564-1777161600-1777334399@www.sightcare.co.uk
SUMMARY:SightCare LIVE
DESCRIPTION:SightCare LIVE – our flagship member event – combines a conference\, awards and expo to create the highlight of our annual calendar.\nOur varied programme of engaging speakers aims to leave attendees inspired and energised. Delegates also have the opportunity to build connections with other independent optical professionals\, through the interactive workshops and networking sessions. \nMembers\n£ Free \nNon-members\nWe would love to welcome non-member practice owners at our Monday conference and expo on 27 April. Charges may apply\, please contact us for details. \n👉 Bookings now open! \nPlease see our dedicated event pages for more details including: \n\nProgramme\n Speaker bios\ninfo about the venue and accommodation\nSightCare Awards ceremony\n\nYou can also  Book now on EventBrite \nHope to see you there!\nThe SightCare Team
URL:https://www.sightcare.co.uk/event/sightcare-live/
LOCATION:Edgbaston Stadium\, Edgbaston\, Birmingham\, B5 7QU\, United Kingdom
CATEGORIES:Networking,Training
ATTACH;FMTTYPE=image/png:https://www.sightcare.co.uk/wp-content/uploads/2025/07/Website-LS.png
ORGANIZER;CN="SightCare":MAILTO:info@sightcare.co.uk
END:VEVENT
END:VCALENDAR